BEGIN:VCALENDAR
VERSION:2.0
PRODID:-//New Covenant Assembly - ECPv6.15.20//NONSGML v1.0//EN
CALSCALE:GREGORIAN
METHOD:PUBLISH
X-ORIGINAL-URL:https://newcovenantassembly.ca
X-WR-CALDESC:Events for New Covenant Assembly
REFRESH-INTERVAL;VALUE=DURATION:PT1H
X-Robots-Tag:noindex
X-PUBLISHED-TTL:PT1H
BEGIN:VTIMEZONE
TZID:America/Edmonton
BEGIN:DAYLIGHT
TZOFFSETFROM:-0700
TZOFFSETTO:-0600
TZNAME:MDT
DTSTART:20250309T090000
END:DAYLIGHT
BEGIN:STANDARD
TZOFFSETFROM:-0600
TZOFFSETTO:-0700
TZNAME:MST
DTSTART:20251102T080000
END:STANDARD
BEGIN:DAYLIGHT
TZOFFSETFROM:-0700
TZOFFSETTO:-0600
TZNAME:MDT
DTSTART:20260308T090000
END:DAYLIGHT
BEGIN:STANDARD
TZOFFSETFROM:-0600
TZOFFSETTO:-0700
TZNAME:MST
DTSTART:20261101T080000
END:STANDARD
BEGIN:DAYLIGHT
TZOFFSETFROM:-0700
TZOFFSETTO:-0600
TZNAME:MDT
DTSTART:20270314T090000
END:DAYLIGHT
BEGIN:STANDARD
TZOFFSETFROM:-0600
TZOFFSETTO:-0700
TZNAME:MST
DTSTART:20271107T080000
END:STANDARD
END:VTIMEZONE
BEGIN:VEVENT
DTSTART;TZID=America/Edmonton:20260529T190000
DTEND;TZID=America/Edmonton:20260531T120000
DTSTAMP:20260420T075139
CREATED:20260322T031359Z
LAST-MODIFIED:20260322T031359Z
UID:10000111-1780081200-1780228800@newcovenantassembly.ca
SUMMARY:Women's Conference 2026
DESCRIPTION:Step into a season of growth\, purpose\, and flourishing at the Women’s Conference 2026\, a powerful gathering designed to inspire and empower women to truly thrive in every area of life. \nWith the theme “Thrive!”\, this conference is a divine invitation to rise above challenges\, embrace your God-given identity\, and flourish spiritually\, emotionally\, and purposefully. It’s a time of refreshing\, renewal\, and transformation as women come together in faith\, unity\, and expectation. \nGuest Minister: Rev Christie Bature \nConference Dates and Times:  \nFriday May 29\, 2026 \nTime: 7pm – 9pm \nSaturday May 30\, 2026 \nTime: 10am – 12pm: Just Us Girls; 12pm-6pm: Main Conference Afternoon Session \nSunday May 31\, 2026 \nTime: 9am – 12pm \n\nRegistration: Details to come
URL:https://newcovenantassembly.ca/event/women-conference/
LOCATION:New Covenant Assembly Main Campus\, 2620 22 Street NE\, Calgary\, Alberta\, T2E 7L9\, Canada
CATEGORIES:Conference
ATTACH;FMTTYPE=image/jpeg:https://newcovenantassembly.ca/wp-content/uploads/2026/03/womens-conference-2026-thrive-landscape.avif
END:VEVENT
BEGIN:VEVENT
DTSTART;TZID=America/Edmonton:20260620T090000
DTEND;TZID=America/Edmonton:20260620T160000
DTSTAMP:20260420T075139
CREATED:20260415T020342Z
LAST-MODIFIED:20260415T020342Z
UID:10000115-1781946000-1781971200@newcovenantassembly.ca
SUMMARY:NCA Business Expo 2026
DESCRIPTION:Step into a space of innovation\, insight\, and opportunity at the NCA Business Expo 2026\, a dynamic gathering designed to equip and empower entrepreneurs\, professionals\, and business-minded individuals to grow and scale in today’s evolving marketplace. \nWith the theme “From Foundation to Future: Scaling the Modern Enterprise\,” this expo brings together thought leaders\, industry professionals\, and visionaries to explore practical strategies for building sustainable and impactful businesses. Whether you are just starting out or looking to expand\, this is a unique opportunity to gain clarity\, direction\, and actionable knowledge. \nExpect a powerful lineup including an Economic Outlook Keynote\, Growth Strategy Sessions\, an AI & Automation Workshop\, Industry Insights\, and a Business Showcase. It’s more than an event\, it’s a platform to connect\, learn\, and position yourself for the next level. \nNetwork. Learn. Build. Scale. \nEvent Details:Date: Saturday\, June 20\, 2026Time: 9:00 AM – 4:00 PMLocation: NCA Main Campus \nRegistration: Scan the QR Code to secure your spot. \nFor Further Inquiries Email: sam.whyte@newcovenantassembly.ca
URL:https://newcovenantassembly.ca/event/nca-business-expo/
LOCATION:New Covenant Assembly Main Campus\, 2620 22 Street NE\, Calgary\, Alberta\, T2E 7L9\, Canada
CATEGORIES:Church Service
ATTACH;FMTTYPE=application/pdf:https://newcovenantassembly.ca/wp-content/uploads/2026/04/NCA-BUSINESS-DEPARTMENT-EXPO-2026-2.pdf
END:VEVENT
END:VCALENDAR